BEGIN:VCALENDAR
VERSION:2.0
PRODID:-//RIGHTHERE//CALENDARIZE IT V3.2//EN
BEGIN:VEVENT
UID:831-events@bridgeforwellness.com
DTSTART:20250107T120000Z
DTEND:20250107T124500Z
DTSTAMP:20241226T221452Z
SUMMARY:Free Virtual Max Meditation
RRULE:FREQ=WEEKLY;INTERVAL=1;UNTIL=20260609
EXDATE:20250107T120000Z,20250218T120000Z,20250506T120000Z,20250513T120000Z,
 20250624T120000Z,20250812T120000Z,20250916T120000Z,20251014T120000Z,202511
 18T120000Z,20251125T120000Z,20251230T120000Z,20260217T120000Z,20260303T120
 000Z,20260324T120000Z,20260407T120000Z,20260421T120000Z,20260505T120000Z,2
 0260512T120000Z,20260519T120000Z,20260526T120000Z,20260602T120000Z
URL:https://bridgeforwellness.com/events/https-bridgeforwellness-practicebe
 tter-io-59ed735567c6b9129cd65d50-bookingss67101cada63a623da687799estepdate
 /
END:VEVENT
END:VCALENDAR