BEGIN:VCALENDAR
VERSION:2.0
PRODID:-//RIGHTHERE//CALENDARIZE IT V3.2//EN
BEGIN:VEVENT
UID:2587-events@bridgeforwellness.com
DTSTART:20260627T150000Z
DTEND:20260627T193000Z
DTSTAMP:20260415T170902Z
SUMMARY:Astral Travel
URL:https://bridgeforwellness.com/events/astral-travel/
ORGANIZER;CN=Sue Rapley:
LOCATION:6963-A North Wickham Road\, Melbourne\, FL\, 32940\, US
END:VEVENT
END:VCALENDAR