BEGIN:VCALENDAR
VERSION:2.0
PRODID:-//RIGHTHERE//CALENDARIZE IT V3.2//EN
BEGIN:VEVENT
UID:2540-events@bridgeforwellness.com
DTSTART:20260615T120000Z
DTEND:20260615T124500Z
DTSTAMP:20260310T200949Z
SUMMARY:Free Virtual Max Meditation
RRULE:FREQ=WEEKLY;INTERVAL=1
EXDATE:20260615T120000Z,20260907T120000Z
URL:https://bridgeforwellness.com/events/free-virtual-max-meditation/
END:VEVENT
END:VCALENDAR