BEGIN:VCALENDAR
VERSION:2.0
PRODID:-//RIGHTHERE//CALENDARIZE IT V3.2//EN
BEGIN:VEVENT
UID:2537-events@bridgeforwellness.com
DTSTART:20260610T190000Z
DTEND:20260610T210000Z
DTSTAMP:20260310T193310Z
SUMMARY:MAX Meditation System™ & Community Gathering
RRULE:FREQ=WEEKLY;INTERVAL=1
URL:https://bridgeforwellness.com/events/max-meditation-system-community-ga
 thering-2/
LOCATION:6963-A North Wickham Road\, Melbourne\, FL\, 32940\, US
END:VEVENT
END:VCALENDAR