BEGIN:VCALENDAR
VERSION:2.0
PRODID:-//RIGHTHERE//CALENDARIZE IT V3.2//EN
BEGIN:VEVENT
UID:2371-events@bridgeforwellness.com
DTSTART:20260613T100000Z
DTEND:20260613T180000Z
DTSTAMP:20251215T155323Z
SUMMARY:Empower Thyself
RRULE:FREQ=DAILY;INTERVAL=1;UNTIL=20260614
URL:https://bridgeforwellness.com/events/empower-thyself-2/
LOCATION:6963-A North Wickham Road\, Melbourne\, FL\, 32940\, US
END:VEVENT
END:VCALENDAR