BEGIN:VCALENDAR
VERSION:2.0
PRODID:-//RIGHTHERE//CALENDARIZE IT V3.2//EN
BEGIN:VEVENT
UID:1207-events@bridgeforwellness.com
DTSTART:20250610T190000Z
DTEND:20250610T210000Z
DTSTAMP:20250604T152049Z
SUMMARY:MAX Meditation System™ & Community Gathering
RRULE:FREQ=WEEKLY;INTERVAL=1;UNTIL=20260526
EXDATE:20250624T190000Z,20250805T190000Z,20250812T190000Z,20250916T190000Z,
 20251014T190000Z,20251118T190000Z,20251125T190000Z,20251230T190000Z,202601
 06T190000Z,20260217T190000Z,20260224T190000Z,20260324T190000Z,20260421T190
 000Z,20260512T190000Z,20260519T190000Z,20260526T190000Z,20260602T190000Z
URL:https://bridgeforwellness.com/events/max-meditation-system-community-ga
 thering/
ORGANIZER;CN=Sue Rapley:
LOCATION:6963-A North Wickham Road\, Melbourne\, FL\, 32940\, US
END:VEVENT
END:VCALENDAR