BEGIN:VCALENDAR
VERSION:2.0
PRODID:-//RIGHTHERE//CALENDARIZE IT V3.2//EN
BEGIN:VEVENT
UID:1106-events@bridgeforwellness.com
DTSTART:20250906T100000Z
DTEND:20250907T180000Z
DTSTAMP:20250316T165835Z
SUMMARY:Empower Thyself
URL:https://bridgeforwellness.com/events/https-bridgeforwellness-com-empowe
 r-thyself-program/
LOCATION:6963-A North Wickham Road\, Melbourne\, FL\, 32940\, US
END:VEVENT
END:VCALENDAR